BEGIN:VCALENDAR
VERSION:2.0
PRODID:-//RCCG The Light Pavilion HQ WA - ECPv6.9.0//NONSGML v1.0//EN
CALSCALE:GREGORIAN
METHOD:PUBLISH
X-WR-CALNAME:RCCG The Light Pavilion HQ WA
X-ORIGINAL-URL:https://thelightpavilion.org
X-WR-CALDESC:Events for RCCG The Light Pavilion HQ WA
REFRESH-INTERVAL;VALUE=DURATION:PT1H
X-Robots-Tag:noindex
X-PUBLISHED-TTL:PT1H
BEGIN:VTIMEZONE
TZID:Asia/Shanghai
BEGIN:STANDARD
TZOFFSETFROM:+0800
TZOFFSETTO:+0800
TZNAME:CST
DTSTART:20230101T000000
END:STANDARD
END:VTIMEZONE
BEGIN:VEVENT
DTSTART;TZID=Asia/Shanghai:20230818T210000
DTEND;TZID=Asia/Shanghai:20230818T210000
DTSTAMP:20260422T055531
CREATED:20230818T124335Z
LAST-MODIFIED:20230818T124335Z
UID:2647389-1692392400-1692392400@thelightpavilion.org
SUMMARY:ZOOM EVENT - Regional Holy Ghost Service
DESCRIPTION:Event Poster
URL:https://thelightpavilion.org/event/zoom-event-regional-holy-ghost-service/
LOCATION:ZOOM
END:VEVENT
END:VCALENDAR